Workbook
Name ProposedRating: 'All Projects'!$P$1:$P$5

Sheet All Projects
A1: People Ops
A2: 2018 ALL PROJECTS
A3: Overview
A4: Team | B4: Project | C4: Project Manager | D4: Project Type | E4: Progress | F4: Proposed Rating | G4: Target Date | H4: Days Left | I4: % Complete | J4: Dashboard
A5: Human Resources | B5: Employer Branding Initiative | C5: Amanda Lasky | D5: Major | E5: ='HR-Employer Branding'!B7 -> Target | F5: =+'HR-Employer Branding'!B11 -> Meets | G5: =+'HR-Employer Branding'!B10 -> 43404 | H5: =G5-(TODAY()) -> 141 | I5: =+'HR-Employer Branding'!B9 -> 0.3
A6: Human Resources | B6: Learning & Development (Version 2.0) | C6: Jhenene Louis | D6: Major | E6: ='HR-Learning & Development'!B7 -> Ahead | F6: =+'HR-Learning & Development'!B11 -> Meets | G6: =+'HR-Learning & Development'!B10 -> 43404 | H6: =G6-(TODAY()) -> 141 | I6: =+'HR-Learning & Development'!B9 -> 0.3
A7: Human Resources | B7: Revamp Culture Club | C7: Vanessa Macias | D7: Major | E7: ='HR-Revamp Culture Club'!B7 -> Ahead | F7: =+'HR-Revamp Culture Club'!B11 -> Meets | G7: =+'HR-Revamp Culture Club'!B10 -> 43343 | H7: =G7-(TODAY()) -> 80 | I7: =+'HR-Revamp Culture Club'!B9 -> 0.5
A8: Human Resources | B8: New Manager Process | C8: Caitlin Wilterdink | D8: Major | E8: ='HR-New Manager Process'!B7 -> Behind | F8: =+'HR-New Manager Process'!B11 -> Meets | G8: =+'HR-New Manager Process'!B10 -> 43266 | H8: =G8-(TODAY()) -> 3 | I8: =+'HR-New Manager Process'!B9 -> 0.1
A9: Recruiting | B9: Internal Recruiting | C9: Vanessa Macias | D9: Major | E9: ='REC-Internal Recruiting'!B7 -> Ahead | F9: =+'REC-Internal Recruiting'!B11 -> Meets | G9: =+'REC-Internal Recruiting'!B10 -> 43281 | H9: =G9-(TODAY()) -> 18 | I9: =+'REC-Internal Recruiting'!B9 -> 0.3
A10: Human Resources | B10: Diversity & Inclusion Partnering | C10: Krysta Kucinski | D10: Major | E10: ='HR-D&I Partnering'!B7 -> Target | F10: =+'HR-D&I Partnering'!B11 -> Meets | G10: =+'HR-D&I Partnering'!B10 -> 43465 | H10: =G10-(TODAY()) -> 202 | I10: =+'HR-D&I Partnering'!B9 -> 0.2
A11: Human Resources | B11: Goal Setting Training | C11: Jhenene Louis | D11: Major | E11: ='HR-Goal Setting Training'!B7 -> Ahead | F11: =+'HR-Goal Setting Training'!B11 -> Meets | G11: =+'HR-Goal Setting Training'!B10 -> 43404 | H11: =G11-(TODAY()) -> 141 | I11: =+'HR-Goal Setting Training'!B9 -> 0.1
A12: Human Resources | B12: Manager Scorecard | C12: Amanda Lasky | D12: Major | E12: ='HR-Manager Scorecard'!B7 -> Ahead | F12: =+'HR-Manager Scorecard'!B11 -> Meets | G12: =+'HR-Manager Scorecard'!B10 -> 43258 | H12: =G12-(TODAY()) -> -5 | I12: =+'HR-Manager Scorecard'!B9 -> 0.1
A13: Human Resources | B13: Recognition | C13: Vanessa Macias | D13: Major | E13: ='HR-Recognition'!B7 -> Ahead | F13: =+'HR-Recognition'!B11 -> Meets | G13: =+'HR-Recognition'!B10 -> 43404 | H13: =G13-(TODAY()) -> 141 | I13: =+'HR-Recognition'!B9 -> 0.1
A14: Facilities Services | B14: Soundproofing Conference Rooms | C14: Ronaldo Sakdalan | D14: Major | E14: ='FS-Soundproofing'!B7 -> Ahead | F14: =+'FS-Soundproofing'!B11 -> Meets | G14: =+'FS-Soundproofing'!B10 -> 43404 | H14: =G14-(TODAY()) -> 141 | I14: =+'FS-Soundproofing'!B9 -> 0.1
A15: Facilities Services | B15: Food - Lunch Revamp | C15: Jhenene & Ron | D15: Major | E15: ='FS-Food Lunch Revamp'!B7 -> Ahead | F15: =+'FS-Food Lunch Revamp'!B11 -> Meets | G15: =+'FS-Food Lunch Revamp'!B10 -> 43404 | H15: =G15-(TODAY()) -> 141 | I15: =+'FS-Food Lunch Revamp'!B9 -> 0.1
A16: IT | B16: Asset Management / Apple Leasing | C16: Paul Gelot | D16: Major | E16: ='IT-Asset ManagementApple Leasin'!B7 -> Stuck | F16: =+'IT-Asset ManagementApple Leasin'!B11 -> Meets | G16: 43348 | H16: =G16-(TODAY()) -> 85 | I16: =+'IT-Asset ManagementApple Leasin'!B9 -> 0.3
A18: Human Resources | B18: Health & Wellness | C18: Jhenene Louis | D18: Project | E18: ='HR-Health & Wellness'!B7 -> Behind | F18: =+'HR-Health & Wellness'!B11 -> Meets | G18: =+'HR-Health & Wellness'!B10 -> 43404 | H18: =G18-(TODAY()) -> 141 | I18: =+'HR-Health & Wellness'!B9 -> 0.1
A19: Facilities Services | B19: Office Ticketing System (Zendesk) | C19: Paul Gelot | D19: Project | E19: ='FS-Office Ticketing System'!B7 -> Behind | F19: =+'FS-Office Ticketing System'!B11 -> Meets | G19: 43273 | H19: =G19-(TODAY()) -> 10 | I19: =+'FS-Office Ticketing System'!B9 -> 0.1
A20: IT | B20: Finalize Onboarding | C20: Paul Gelot | D20: Project | E20: ='IT-Finalize Onboarding'!B7 -> Behind | F20: =+'IT-Finalize Onboarding'!B11 -> Meets | G20: =+'IT-Finalize Onboarding'!B10 -> 43404 | H20: =G20-(TODAY()) -> 141 | I20: 0.75
A21: Facilities Services | B21: Rug & Upholstery Cleaning | C21: Ronaldo Sakdalan | D21: Project | E21: Ahead | F21: =+'FS-RugUpholstery Cleaning'!B11 -> Meets | G21: 43281 | H21: =G21-(TODAY()) -> 18 | I21: 0.3
A22: Facilities Services | B22: Phone Booths Cell Coverage | C22: Mark Noonan | D22: Project | E22: ='FS-Phone Booths Cell Coverage'!B7 -> Stuck | F22: =+'FS-Phone Booths Cell Coverage'!B11 -> Meets | G22: =+'FS-Phone Booths Cell Coverage'!B10 -> 43281 | H22: =G22-(TODAY()) -> 18 | I22: =+'FS-Phone Booths Cell Coverage'!B9 -> 0.8
A23: IT | B23: Single Sign On (SSO) | C23: Paul Gelot | D23: Project | E23: Target | F23: =+'IT-Single Sign On'!B11 -> Meets | G23: 43348 | H23: =G23-(TODAY()) -> 85 | I23: 0.4
A24: Human Resources | B24: GDPR | C24: Cailtin Wilterdink | D24: Project | E24: ='Rec- GDPR'!B7 -> Target | F24: =+'Rec- GDPR'!B11 -> Meets | G24: =+'Rec- GDPR'!B10 -> 43465 | H24: =G24-(TODAY()) -> 202 | I24: =+'Rec- GDPR'!B9 -> 0
A25: Human Resources | B25: Anti-Harassment Legislation | C25: Kelly O'Brien | D25: Project | E25: ='HR-Anti-Harassment'!B7 -> Target | F25: =+'HR-Anti-Harassment'!B11 -> Meets | G25: =+'HR-Anti-Harassment'!B10 -> 43382 | H25: =G25-(TODAY()) -> 119 | I25: =+'HR-Anti-Harassment'!B9 -> 0
A26: Human Resources | B26: Self-Identification Survey | C26: Kelly O'Brien | D26: Project | E26: ='HR-Self-IdentSurvey'!B7 -> Target | F26: =+'HR-Self-IdentSurvey'!B11 -> Meets | G26: =+'HR-Self-IdentSurvey'!B10 -> 43252 | H26: =G26-(TODAY()) -> -11 | I26: =+'HR-Self-IdentSurvey'!B9 -> 0.5
A27: Human Resources | B27: Mentor Program | C27: Kelly O'Brien | D27: Project | E27: ='HR-MentorProgram'!B7 -> Target | F27: =+'HR-MentorProgram'!B11 -> Meets | G27: =+'HR-MentorProgram'!B10 -> 43343 | H27: =G27-(TODAY()) -> 80 | I27: =+'HR-MentorProgram'!B9 -> 0.2
A28: Human Resources | B28: KRK - Spring Branding in Krakow | C28: Agnieszka Tomczak | D28: Project | E28: ='HR-KRK-SpringBranding'!B7 -> Ahead | F28: ='HR-KRK-SpringBranding'!B11 -> Meets | G28: =+'HR-KRK-SpringBranding'!B10 -> 43465 | H28: =G28-(TODAY()) -> 202 | I28: =+'HR-KRK-SpringBranding'!B9 -> 0.2
A29: Human Resources | B29: TBD #6 | C29: TBD | D29: Project | E29: ='HR-TBD#6'!B7 -> Complete | F29: =+'HR-TBD#6'!B11 -> Meets | G29: =+'HR-TBD#6'!B10 -> 43465 | H29: =G29-(TODAY()) -> 202 | I29: =+'HR-TBD#6'!B9 -> 0 | J29: Project Goals On Track for…
A30: Human Resources | B30: TBD #7 | C30: TBD | D30: Project | E30: ='HR-TBD#7'!B7 -> Complete | F30: =+'HR-TBD#7'!B11 -> Meets | G30: =+'HR-TBD#7'!B10 -> 43465 | H30: =G30-(TODAY()) -> 202 | I30: =+'HR-TBD#7'!B9 -> 0 | K30: Meets | L30: Exceeds | M30: Outstanding
A31: Facilities Services | B31: TBD #1 | C31: TBD | D31: Project | E31: ='FS-TBD#1'!B7 -> Complete | F31: =+'FS-TBD#1'!B11 -> Meets | G31: =+'FS-TBD#1'!B10 -> 43465 | H31: =G31-(TODAY()) -> 202 | I31: =+'FS-TBD#1'!B9 -> 0 | J31: Human Resources | K31: =SUMPRODUCT(($A:$A=$J31)*($F:$F=K$30)) -> 16 | L31: =SUMPRODUCT(($A:$A=$J31)*($F:$F=L$30)) -> 0 | M31: =SUMPRODUCT(($A:$A=$J31)*($F:$F=M$30)) -> 0
J32: Facilities Services | K32: =SUMPRODUCT(($A:$A=$J32)*($F:$F=K$30)) -> 6 | L32: =SUMPRODUCT(($A:$A=$J32)*($F:$F=L$30)) -> 0 | M32: =SUMPRODUCT(($A:$A=$J32)*($F:$F=M$30)) -> 0
A33: Human Resources | B33: TBD | C33: TBD | D33: Special | E33: TBD | J33: IT | K33: =SUMPRODUCT(($A:$A=$J33)*($F:$F=K$30)) -> 3 | L33: =SUMPRODUCT(($A:$A=$J33)*($F:$F=L$30)) -> 0 | M33: =SUMPRODUCT(($A:$A=$J33)*($F:$F=M$30)) -> 0
A34: Facilities Services | B34: TBD | C34: TBD | D34: Special | E34: TBD | J34: Recruiting | K34: =SUMPRODUCT(($A:$A=$J34)*($F:$F=K$30)) -> 1 | L34: =SUMPRODUCT(($A:$A=$J34)*($F:$F=L$30)) -> 0 | M34: =SUMPRODUCT(($A:$A=$J34)*($F:$F=M$30)) -> 0
J35: Total | K35: =SUM(K31:K34) -> 26 | L35: =SUM(L31:L34) -> 0 | M35: =SUM(M31:M34) -> 0
J36: Project Breakdown by Team & Project
K37: Major | L37: Project | M37: Special | N37: Total
J38: Human Resources | K38: =SUMPRODUCT(($A:$A=$J38)*($D:$D=K$37)) -> 8 | L38: =SUMPRODUCT(($A:$A=$J38)*($D:$D=L$37)) -> 8 | M38: =SUMPRODUCT(($A:$A=$J38)*($D:$D=M$37)) -> 1 | N38: =SUM(K38:M38) -> 17
J39: Facilities Services | K39: =SUMPRODUCT(($A:$A=$J39)*($D:$D=K$37)) -> 2 | L39: =SUMPRODUCT(($A:$A=$J39)*($D:$D=L$37)) -> 4 | M39: =SUMPRODUCT(($A:$A=$J39)*($D:$D=M$37)) -> 1 | N39: =SUM(K39:M39) -> 7
J40: IT | K40: =SUMPRODUCT(($A:$A=$J40)*($D:$D=K$37)) -> 1 | L40: =SUMPRODUCT(($A:$A=$J40)*($D:$D=L$37)) -> 2 | M40: =SUMPRODUCT(($A:$A=$J40)*($D:$D=M$37)) -> 0 | N40: =SUM(K40:M40) -> 3
J41: Recruiting | K41: =SUMPRODUCT(($A:$A=$J41)*($D:$D=K$37)) -> 1 | L41: =SUMPRODUCT(($A:$A=$J41)*($D:$D=L$37)) -> 0 | M41: =SUMPRODUCT(($A:$A=$J41)*($D:$D=M$37)) -> 0 | N41: =SUM(K41:M41) -> 1
...

Sheet HR-Employer Branding
A1: Human Resources
A2: Major Project
A3: Employer Branding Initiative
A5: Ground Level View
A7: Project Progress: | B7: Target
A8: Project Status as of: | B8: 43221
A9: % Complete: | B9: 0.3
A10: Target Date: | B10: 43404
A11: Proposed Rating: | B11: Meets
A12: Project Manager: | B12: Amanda Lasky | D12: Project Summary:
A13: Team Members: | B13: Pam Roberts
B14: Kelly O'Brien
B15: Caitlin Wilterdink
B16: Scott Amenta | D16: Project Budget: | E16: 0
D17: Days Left: | E17: =B10-B8 -> 183
A19: Current Status:
A20: Completed final brainstorming session.
A21: Next Steps:
A22: Schedule meeting with Liv to discuss copy.
A23: Current Concern/Problem:
A24: N/A or Write here...
A25: Potential Resolution:
A26: I plan to…
A28: Task Name | B28: Resources | C28: Duration | D28: Start | E28: Finish | F28: % Work Complete
A29: TASKS | B29: OWNER | D29: Date Assigned | E29: Date Due | F29: Percentage Complete
A89: Bi-Weekly Update History

Sheet HR-Learning & Development
A1: Human Resources
A2: Major Project
A3: Learning & Development (Version 2.0)
A5: Ground Level View
A7: Project Progress: | B7: Ahead
A8: Project Status as of: | B8: 43221
A9: % Complete: | B9: 0.3
A10: Target Date: | B10: 43404
A11: Proposed Rating: | B11: Meets
A12: Project Manager: | B12: Jhenene Louis | D12: Project Summary:
A13: Team Members: | B13: Pam Roberts
D16: Project Budget: | E16: 0
D17: Days Left: | E17: =B10-B8 -> 183
A19: Current Status:
A20: What's the latest update. Write here...
A21: Next Steps:
A22: What will you be doing next. Write here...
A23: Current Concern/Problem:
A24: N/A or Write here...
A25: Potential Resolution:
A26: I plan to…
A28: Task Name | B28: Resources | C28: Duration | D28: Start | E28: Finish | F28: % Work Complete
A29: TASKS | B29: OWNER | D29: Date Assigned | E29: Date Due | F29: Percentage Complete
A77: Bi-Weekly Update History

Sheet HR-Revamp Culture Club
A1: Human Resources
A2: Major Project
A3: Revamp Culture Club
A5: Ground Level View
A7: Project Progress: | B7: Ahead
A8: Project Status as of: | B8: 43235
A9: % Complete: | B9: 0.5
A10: Target Date: | B10: 43343
A11: Proposed Rating: | B11: Meets
A12: Project Manager: | B12: Vanessa Macias | D12: Project Summary:
A13: Team Members: | B13: Pam Roberts
B14: Mark Noonan
D16: Project Budget: | E16: 200
D17: Days Left: | E17: =B10-B8 -> 108
A19: Current Status:
A20: Waiting for confirmation of 3 events from Obi
A21: Next Steps:
A22: Once events are confirmed, send email to employees with events
A23: Current Concern/Problem:
A25: Potential Resolution:
A28: Task Name | B28: Resources | C28: Duration | D28: Start | E28: Finish | F28: % Work Complete
A29: TASKS | B29: OWNER | D29: Date Assigned | E29: Date Due | F29: Percentage Complete
A89: Bi-Weekly Update History

Sheet HR-New Manager Process
A1: Human Resources
A2: Major Project
A3: New Manager Process
A5: Ground Level View
A7: Project Progress: | B7: Behind
A8: Project Status as of: | B8: 43242
A9: % Complete: | B9: 0.1
A10: Target Date: | B10: 43266
A11: Proposed Rating: | B11: Meets
A12: Project Manager: | B12: Caitlin Wilterdink | D12: Project Summary:
A13: Team Members: | B13: Caitlin Wilterdink
D18: Project Budget:
D19: Days Left: | E19: =B10-B8 -> 24
A20: Current Status:
A21: What's the latest update. Write here...
A22: Next Steps:
A23: What will you be doing next. Write here...
A24: Current Concern/Problem:
A25: N/A or Write here...
A26: Potential Resolution:
A27: I plan to…
A29: Task Name | B29: Resources | C29: Duration | D29: Start | E29: Finish | F29: % Work Complete
A30: TASKS | B30: OWNER | D30: Date Assigned | E30: Date Due | F30: Percentage Complete
A31: Onboarding as a Manager | B31: Caitlin | F31: 1
A32: Managing existing Employees | B32: Caitlin | E32: 43266 | F32: 0
A33: Offboarding Employees | B33: Caitlin | E33: 43266 | F33: 0
A61: Bi-Weekly Update History

Sheet REC-Internal Recruiting
A1: Human Resources
A2: Major Project
A3: Internal Recruiting
A5: Ground Level View
A7: Project Progress: | B7: Ahead
A8: Project Status as of: | B8: 43221
A9: % Complete: | B9: 0.3
A10: Target Date: | B10: 43281
A11: Proposed Rating: | B11: Meets
A12: Project Manager: | B12: Vanessa Macias | D12: Project Summary:
A13: Team Members: | B13: Caitlin Wilterdink
B14: Pam Roberts
D16: Project Budget: | E16: 0
D17: Days Left: | E17: =B10-B8 -> 60
A19: Current Status:
A20: Waiting for feedback on drafted proposal from Kelly & Pam
A21: Next Steps:
A22: Once feedack is in, create version 2 of draft
A23: Current Concern/Problem:
A24: N/A or Write here...
A25: Potential Resolution:
A26: I plan to…
A28: Task Name | B28: Resources | C28: Duration | D28: Start | E28: Finish | F28: % Work Complete
A29: TASKS | B29: OWNER | D29: Date Assigned | E29: Date Due | F29: Percentage Complete
A92: Bi-Weekly Update History

Sheet HR-D&I Partnering
A1: Human Resources
A2: Major Project
A3: Diversity & Inclusion Partnering
A5: Ground Level View
A7: Project Progress: | B7: Target
A8: Project Status as of: | B8: 43256
A9: % Complete: | B9: 0.2
A10: Target Date: | B10: 43465
A11: Proposed Rating: | B11: Meets
A12: Project Manager: | B12: Krysta Kucinski | D12: Project Summary:
A13: Team Members: | B13: Caitlin Wilterdink
D16: Project Budget: | E16: 0
D17: Days Left: | E17: =B10-B8 -> 209
A19: Current Status:
A20: Tech Inclusion emails sent last week, exec approved, volunteering is open and sign ups occurred. Met with NYC/KRK eng regarding onsite reboot to gather feedback and discuss next steps.
A21: Next Steps:
A22: Review at recruiting weekly. Final interation on the onsite reboot proposal. Set up meeting with Satwik for next week to discuss.
A23: Current Concern/Problem:
A24: N/A
A25: Potential Resolution:
A26: N/A
A28: Task Name | B28: Resources | C28: Duration | D28: Start | E28: Finish | F28: % Work Complete
A29: Subprojects | B29: OWNER | D29: Date Assigned | E29: Date Due | F29: Percentage Complete
A30: Recruiting process redesign | B30: Krysta | D30: 43222 | E30: 43266 | F30: 0.25
A31: Whiteboarding v Tech Environment | B31: Krysta | D31: 43222 | E31: TBD | F31: 0.2
A32: Research D&I events | B32: Krysta | D32: 43222 | E32: Ongoing | F32: 0.1
A33: D & I Presentation | B33: Caitlin | D33: 43222 | E33: 43245 | F33: 0.9
A103: Bi-Weekly Update History

Sheet HR-Goal Setting Training
A1: Human Resources
A2: Major Project
A3: Goal Setting Training
A5: Ground Level View
A7: Project Progress: | B7: Ahead
A8: Project Status as of: | B8: 43221
A9: % Complete: | B9: 0.1
A10: Target Date: | B10: 43404
A11: Proposed Rating: | B11: Meets
A12: Project Manager: | B12: Jhenene Louis | D12: Project Summary:
A13: Team Members: | B13: Kelly O'Brien
D16: Project Budget:
D17: Days Left: | E17: =B10-B8 -> 183
A19: Current Status:
A20: What's the latest update. Write here...
A21: Next Steps:
A22: What will you be doing next. Write here...
A23: Current Concern/Problem:
A24: N/A or Write here...
A25: Potential Resolution:
A26: I plan to…
A28: Task Name | B28: Resources | C28: Duration | D28: Start | E28: Finish | F28: % Work Complete
A29: TASKS | B29: OWNER | D29: Date Assigned | E29: Date Due | F29: Percentage Complete
A82: Bi-Weekly Update History

Sheet HR-Manager Scorecard
A1: Human Resources
A2: Major Project
A3: Manager Scorecard
A5: Ground Level View
A7: Project Progress: | B7: Ahead
A8: Project Status as of: | B8: 43237
A9: % Complete: | B9: 0.1
A10: Target Date: | B10: 43258
A11: Proposed Rating: | B11: Meets
A12: Project Manager: | B12: Amanda Lasky | D12: Project Summary:
A13: Team Members: | B13: Kelly O'Brien
D16: Project Budget:
D17: Days Left: | E17: =B10-B8 -> 21
A19: Current Status:
A20: Presented to exec 5/24
A21: Next Steps:
A22: Feedback sessions between Pam/Amanda/Kelly
A23: Current Concern/Problem:
A24: N/A or Write here...
A25: Potential Resolution:
A26: I plan to…
A28: Task Name | B28: Resources | C28: Duration | D28: Start | E28: Finish | F28: % Work Complete
A29: TASKS | B29: OWNER | D29: Date Assigned | E29: Date Due | F29: Percentage Complete
A86: Bi-Weekly Update History

Sheet HR-Recognition
A1: Human Resources
A2: Major Project
A3: Recognition
A5: Ground Level View
A7: Project Progress: | B7: Ahead
A8: Project Status as of: | B8: 43221
A9: % Complete: | B9: 0.1
A10: Target Date: | B10: 43404
A11: Proposed Rating: | B11: Meets
A12: Project Manager: | B12: Vanessa Macias | D12: Project Summary:
A13: Team Members: | B13: Kelly O'Brien | D13: We want to create a recognition program across the org that allows for recognition where it is due
B14: Mark
D16: Project Budget: | E16: 0
D17: Days Left: | E17: =B10-B8 -> 183
A19: Current Status:
A20: Met with Kelly & Mark 6.6.18
A21: Next Steps:
A22: Vanessa to draft a proposal that Pam can share with offsite members who are interested
A23: Current Concern/Problem:
A24: N/A or Write here...
A25: Potential Resolution:
A26: I plan to…
A28: Task Name | B28: Resources | C28: Duration | D28: Start | E28: Finish | F28: % Work Complete
A29: TASKS | B29: OWNER | D29: Date Assigned | E29: Date Due | F29: Percentage Complete
A90: Bi-Weekly Update History

Sheet FS-Soundproofing
A1: Facilities Services
A2: Major Project
A3: Soundproofing Conference Rooms
A5: Ground Level View
A7: Project Progress: | B7: Ahead
A8: Project Status as of: | B8: 43221
A9: % Complete: | B9: 0.1
A10: Target Date: | B10: 43404
A11: Proposed Rating: | B11: Meets
A12: Project Manager: | B12: Ron Sakdalan | D12: Project Summary:
A13: Team Members: | B13: Mark Noonan
D16: Project Budget: | E16: 0
D17: Days Left: | E17: =B10-B8 -> 183
A19: Current Status:
A20: What's the latest update. Write here...
A21: Next Steps:
A22: What will you be doing next. Write here...
A23: Current Concern/Problem:
A24: N/A or Write here...
A25: Potential Resolution:
A26: I plan to…
A28: Task Name | B28: Resources | C28: Duration | D28: Start | E28: Finish | F28: % Work Complete
A29: TASKS | B29: OWNER | D29: Date Assigned | E29: Date Due | F29: Percentage Complete
A67: Bi-Weekly Update History

Sheet FS-Food Lunch Revamp
A1: Facilities Services
A2: Major Project
A3: Food - Lunch Revamp
A5: Ground Level View
A7: Project Progress: | B7: Ahead
A8: Project Status as of: | B8: 43221
A9: % Complete: | B9: 0.1
A10: Target Date: | B10: 43404
A11: Proposed Rating: | B11: Meets
A12: Project Manager: | B12: Jhenene & Ron | D12: Project Summary:
A13: Team Members: | B13: Mark Noonan
D16: Project Budget: | E16: 0
D17: Days Left: | E17: =B10-B8 -> 183
A19: Current Status:
A20: What's the latest update. Write here...
A21: Next Steps:
A22: What will you be doing next. Write here...
A23: Current Concern/Problem:
A24: N/A or Write here...
A25: Potential Resolution:
A26: I plan to…
A28: Task Name | B28: Resources | C28: Duration | D28: Start | E28: Finish | F28: % Work Complete
A29: TASKS | B29: OWNER | D29: Date Assigned | E29: Date Due | F29: Percentage Complete
A57: Bi-Weekly Update History

Sheet IT-Asset ManagementApple Leasin
A1: IT
A2: Major Project
A3: Asset Management / Apple Leasing
A5: Ground Level View
A7: Project Progress: | B7: Stuck
A8: Project Status as of: | B8: 43221
A9: % Complete: | B9: 0.3
A10: Target Date: | B10: 43404
A11: Proposed Rating: | B11: Meets
A12: Project Manager: | B12: Paul Gelot | D12: Project Summary:
A13: Team Members: | B13: Mark Noonan | D13: A solution for managing IT inventory & option to lease machines from Apple instead of purchasing
B14: Justin Lintz
D16: Project Budget: | E16: 0
D17: Days Left: | E17: =B10-B8 -> 183
A19: Current Status:
A20: Asset management options ongoing. Leasing is stuck because Apple's financing wants 3 months of band statements which finance will not release.
A21: Next Steps:
A22: Continue Asset management testing. Put leasing on hold until after fundraising is over. Keep purchasing machines for now.
A23: Current Concern/Problem:
A24: Leasing would save money, so we are not helping ourselves here.
A25: Potential Resolution:
A26: I plan to wait...
A28: Task Name | B28: Resources | C28: Duration | D28: Start | E28: Finish | F28: % Work Complete
A29: TASKS | B29: OWNER | D29: Date Assigned | E29: Date Due | F29: Percentage Complete
A56: Bi-Weekly Update History

Sheet HR-Health & Wellness
A1: Human Resources
A2: Project
A3: Health & Wellness Initiatives
A5: Ground Level View
A7: Project Progress: | B7: Behind
A8: Project Status as of: | B8: 43221
A9: % Complete: | B9: 0.1
A10: Target Date: | B10: 43404
A11: Proposed Rating: | B11: Meets
A12: Project Manager: | B12: Jhenene Louis | D12: Project Summary:
A13: Team Members: | B13: Mark Noonan
B14: Kelly O'Brien
D16: Project Budget: | E16: 0
D17: Days Left: | E17: =B10-B8 -> 183
A19: Current Status:
A20: What's the latest update. Write here...
A21: Next Steps:
A22: What will you be doing next. Write here...
A23: Current Concern/Problem:
A24: N/A or Write here...
A25: Potential Resolution:
A26: I plan to…
A28: Task Name | B28: Resources | C28: Duration | D28: Start | E28: Finish | F28: % Work Complete
A29: TASKS | B29: OWNER | D29: Date Assigned | E29: Date Due | F29: Percentage Complete
A77: Bi-Weekly Update History

Sheet FS-Office Ticketing System
A1: Facilities Services
A2: Project
A3: Office Ticketing System (Zendesk)
A5: Ground Level View
A7: Project Progress: | B7: Behind
A8: Project Status as of: | B8: 43221
A9: % Complete: | B9: 0.1
A10: Target Date: | B10: 43404
A11: Proposed Rating: | B11: Meets
A12: Project Manager: | B12: Paul Gelot | D12: Project Summary:
A13: Team Members: | B13: Ronaldo Sakdalan
B14: Mark Noonan
D16: Project Budget: | E16: 0
D17: Days Left: | E17: =B10-B8 -> 183
A19: Current Status:
A20: What's the latest update. Write here...
A21: Next Steps:
A22: What will you be doing next. Write here...
A23: Current Concern/Problem:
A24: N/A or Write here...
A25: Potential Resolution:
A26: I plan to…
A28: Task Name | B28: Resources | C28: Duration | D28: Start | E28: Finish | F28: % Work Complete
A29: TASKS | B29: OWNER | D29: Date Assigned | E29: Date Due | F29: Percentage Complete
A89: Bi-Weekly Update History

Sheet IT-Finalize Onboarding
A1: IT
A2: Project
A3: Finalize Onboarding
A5: Ground Level View
A7: Project Progress: | B7: Behind
A8: Project Status as of: | B8: 43221
A9: % Complete: | B9: 0.1
A10: Target Date: | B10: 43404
A11: Proposed Rating: | B11: Meets
A12: Project Manager: | B12: Paul Gelot | D12: Project Summary:
A13: Team Members: | B13: Mark Noonan
D16: Project Budget:
D17: Days Left: | E17: =B10-B8 -> 183
A19: Current Status:
A20: What's the latest update. Write here...
A21: Next Steps:
A22: What will you be doing next. Write here...
A23: Current Concern/Problem:
A24: N/A or Write here...
A25: Potential Resolution:
A26: I plan to…
A28: Task Name | B28: Resources | C28: Duration | D28: Start | E28: Finish | F28: % Work Complete
A29: TASKS | B29: OWNER | D29: Date Assigned | E29: Date Due | F29: Percentage Complete
A42: Bi-Weekly Update History

Sheet FS-RugUpholstery Cleaning
A1: Facilities Services
A2: Project
A3: Rug & Upholstery Cleaning
A5: Ground Level View
A7: Project Progress: | B7: Behind
A8: Project Status as of: | B8: 43221
A9: % Complete: | B9: 0.1
A10: Target Date: | B10: 43404
A11: Proposed Rating: | B11: Meets
A12: Project Manager: | B12: Ronaldo Sakdalan | D12: Project Summary:
A13: Team Members: | B13: Mark Noonan
D21: Project Budget: | E21: 2000
D22: Days Left: | E22: =B10-B8 -> 183
A24: Current Status:
A25: What's the latest update. Write here...
A26: Next Steps:
A27: What will you be doing next. Write here...
A28: Current Concern/Problem:
A29: N/A or Write here...
A30: Potential Resolution:
A31: I plan to…
A33: Task Name | B33: Resources | C33: Duration | D33: Start | E33: Finish | F33: % Work Complete
A34: TASKS | B34: OWNER | D34: Date Assigned | E34: Date Due | F34: Percentage Complete
A66: Bi-Weekly Update History

Sheet FS-Phone Booths Cell Coverage
A1: Facilities Services
A2: Project
A3: Phone Booths Cell Coverage
A5: Ground Level View
A7: Project Progress: | B7: Stuck
A8: Project Status as of: | B8: 43256
A9: % Complete: | B9: 0.8
A10: Target Date: | B10: 43281
A11: Proposed Rating: | B11: Meets
A12: Project Manager: | B12: Mark Noonan | D12: Project Summary:
A13: Team Members: | B13: Ronaldo Sakdalan
B14: Paul Gelot
D16: Project Budget: | E16: 0
D17: Days Left: | E17: =B10-B8 -> 25
A19: Current Status:
A20: Got a mini tower from Verizon.
A21: Next Steps:
A22: Need to hook up the HR team to it.
A23: Current Concern/Problem:
A24: Need to activate a port in order to get this up and running.
A25: Potential Resolution:
A26: Paul/Justin to resolve. Mark sidetracked by Olympics. Will prioritize upon completion.
A28: Task Name | B28: Resources | C28: Duration | D28: Start | E28: Finish | F28: % Work Complete
A29: TASKS | B29: OWNER | D29: Date Assigned | E29: Date Due | F29: Percentage Complete
A64: Bi-Weekly Update History

Sheet IT-Single Sign On
A1: IT
A2: Project
A3: Single Sign On (SSO)
A5: Ground Level View
A7: Project Progress: | B7: Behind
A8: Project Status as of: | B8: 43221
A9: % Complete: | B9: 0.1
A10: Target Date: | B10: 43404
A11: Proposed Rating: | B11: Meets
A12: Project Manager: | B12: Paul Gelot | D12: Project Summary:
A13: Team Members: | B13: Mark Noonan
B14: Justin Lintz
D16: Project Budget: | E16: 10000
D17: Days Left: | E17: =B10-B8 -> 183
A19: Current Status:
A20: What's the latest update. Write here...
A21: Next Steps:
A22: What will you be doing next. Write here...
A23: Current Concern/Problem:
A24: N/A or Write here...
A25: Potential Resolution:
A26: I plan to…
A28: Task Name | B28: Resources | C28: Duration | D28: Start | E28: Finish | F28: % Work Complete
A29: TASKS | B29: OWNER | D29: Date Assigned | E29: Date Due | F29: Percentage Complete
A30: Test out Okta | B30: Paul | E30: 43265
A71: Bi-Weekly Update History

Sheet Rec- GDPR
A1: Human Resources
A2: Project
A3: GDPR
A5: Ground Level View
A7: Project Progress: | B7: Target
A8: Project Status as of: | B8: 43245
A9: % Complete: | B9: 0
A10: Target Date: | B10: 43465
A11: Proposed Rating: | B11: Meets
A12: Project Manager: | B12: Caitlin Wilterdink | D12: Project Summary:
A13: Team Members: | B13: Agnieszka
B14: Krysta
D16: Project Budget: | E16: 0
D17: Days Left: | E17: =B10-B8 -> 220
A19: Current Status:
A20: What's the latest update. Write here...
A21: Next Steps:
A22: What will you be doing next. Write here...
A23: Current Concern/Problem:
A24: N/A or Write here...
A25: Potential Resolution:
A26: I plan to…
A28: Task Name | B28: Resources | C28: Duration | D28: Start | E28: Finish | F28: % Work Complete
A29: TASKS | B29: OWNER | D29: Date Assigned | E29: Date Due | F29: Percentage Complete
A30: GH Process for Managing Prospects | B30: Krysta | E30: 43238 | F30: 0.8
A31: GDPR Compliant GH | B31: Caitlin
A32: Training for Recruiting Team
A81: Bi-Weekly Update History

Sheet HR-Anti-Harassment
A1: Human Resources
A2: Project
A3: Anti-Harassment Legislation
A5: Ground Level View
A7: Project Progress: | B7: Target
A8: Project Status as of: | B8: 43236
A9: % Complete: | B9: 0
A10: Target Date: | B10: 43382
A11: Proposed Rating: | B11: Meets
A12: Project Manager: | B12: Kelly O'Brien | D12: Project Summary:
A13: Team Members:
D16: Project Budget:
D17: Days Left: | E17: =B10-B8 -> 146
A19: Current Status:
A20: Have identified gaps, and working to close. Spoken to four suppliers for training.
A21: Next Steps:
A22: To get approval on costs.
A23: Current Concern/Problem:
A24: N/A or Write here...
A25: Potential Resolution:
A26: I plan to…
A28: Task Name | B28: Resources | C28: Duration | D28: Start | E28: Finish | F28: % Work Complete
A29: TASKS | B29: OWNER | D29: Date Assigned | E29: Date Due | F29: Percentage Complete
A30: Partner with D&I Council to organize training
A31: Update Policy
A89: Bi-Weekly Update History

Sheet HR-Self-IdentSurvey
A1: Human Resources
A2: Project
A3: Self-Indentification Survey
A5: Ground Level View
A7: Project Progress: | B7: Target
A8: Project Status as of: | B8: 43237
A9: % Complete: | B9: 0.5
A10: Target Date: | B10: 43252
A11: Proposed Rating: | B11: Meets
A12: Project Manager: | B12: Kelly O'Brien | D12: Project Summary:
A13: Team Members: | B13: Dan
D16: Project Budget: | E16: 0
D17: Days Left: | E17: =B10-B8 -> 15
A19: Current Status:
A20: Survey has been drafted, and shared with Pam, Dan and Bill for feedback
A21: Next Steps:
A22: Speaking with CultureAmp about setting up survey correctly in the platform. Sharing with D&I Council.
A23: Current Concern/Problem:
A24: N/A or Write here...
A25: Potential Resolution:
A26: I plan to…
A28: Task Name | B28: Resources | C28: Duration | D28: Start | E28: Finish | F28: % Work Complete
A29: TASKS | B29: OWNER | D29: Date Assigned | E29: Date Due | F29: Percentage Complete
A30: Speak to CultureAmp
A31: Share with Bill and LaToya
A32: Share with D&I Council for feedback
A33: Share with Exec for feedback
A34: Draft Survey in CultureAmp
A35: Launch survey
A36: Analyze findings
A37: Share with D&I Council / Company / Exec
A80: Bi-Weekly Update History

Sheet HR-MentorProgram
A1: Human Resources
A2: Project
A3: Mentor Program
A5: Ground Level View
A7: Project Progress: | B7: Target
A8: Project Status as of: | B8: 43242
A9: % Complete: | B9: 0.2
A10: Target Date: | B10: 43343
A11: Proposed Rating: | B11: Meets
A12: Project Manager: | B12: Kelly O'Brien | D12: Project Summary:
A13: Team Members: | B13: Amanda
D16: Project Budget: | E16: 0
D17: Days Left: | E17: =B10-B8 -> 101
A19: Current Status:
A20: Draft outline completed. Amanda joined the project!
A21: Next Steps:
A22: Finalize the proposal.
A23: Current Concern/Problem:
A25: Potential Resolution:
A28: Task Name | B28: Resources | C28: Duration | D28: Start | E28: Finish | F28: % Work Complete
A29: TASKS | B29: OWNER | D29: Date Assigned | E29: Date Due | F29: Percentage Complete
A78: Bi-Weekly Update History

Sheet HR-KRK-SpringBranding
A1: Human Resources
A2: Project
A3: Spring Branding in Krakow
A5: Ground Level View
A7: Project Progress: | B7: Ahead
A8: Project Status as of: | B8: 43236
A9: % Complete: | B9: 0.2
A10: Target Date: | B10: 43465
A11: Proposed Rating: | B11: Meets
A12: Project Manager: | B12: Agnieszka Tomczak | D12: Project Summary:
A13: Team Members: | D13: To make Spring more popular in Kraków in order to reach out to more experienced engineers and bring them on board
D16: Project Budget: | E16: 0
D17: Days Left: | E17: =B10-B8 -> 229
A19: Current Status:
A20: Looking for more possible meetups to join. Talked to few engineers, they are interested in presenting during an event, especially Piotr who has some experience. Going to Python meetup in two weeks.
A21: Next Steps:
A22: Look for more meetups and events organised by other IT companies in Krakow and try to join. Figure out couple of posts before setting the facebook page.
A23: Current Concern/Problem:
A24: N/A or Write here...
A25: Potential Resolution:
A26: I plan to…
A28: Task Name | B28: Resources | C28: Duration | D28: Start | E28: Finish | F28: % Work Complete
A29: TASKS | B29: OWNER | D29: Date Assigned | E29: Date Due | F29: Percentage Complete
A30: Research for meetups to join | B30: Agnieszka Tomczak | E30: 43281 | F30: 0.1
A31: Facebook page for Spring Poland | B31: Agnieszka Tomczak | E31: 43281
A32: Organizing a meetup/workshop | B32: Agnieszka Tomczak | E32: 43373
A65: Bi-Weekly Update History

Sheet HR-TBD#6
A1: Human Resources
A2: Project
A3: TBD #6
A5: Ground Level View
A7: Project Progress: | B7: Complete
A8: Project Status as of: | B8: 43221
A9: % Complete: | B9: 0
A10: Target Date: | B10: 43465
A11: Proposed Rating: | B11: Meets
A12: Project Manager: | B12: TBD | D12: Project Summary:
A13: Team Members:
D16: Project Budget: | E16: 0
D17: Days Left: | E17: =B10-B8 -> 244
A19: Current Status:
A20: What's the latest update. Write here...
A21: Next Steps:
A22: What will you be doing next. Write here...
A23: Current Concern/Problem:
A24: N/A or Write here...
A25: Potential Resolution:
A26: I plan to…
A28: Task Name | B28: Resources | C28: Duration | D28: Start | E28: Finish | F28: % Work Complete
A29: TASKS | B29: OWNER | D29: Date Assigned | E29: Date Due | F29: Percentage Complete
A64: Bi-Weekly Update History

Sheet HR-TBD#7
A1: Human Resources
A2: Project
A3: TBD #7
A5: Ground Level View
A7: Project Progress: | B7: Complete
A8: Project Status as of: | B8: 43221
A9: % Complete: | B9: 0
A10: Target Date: | B10: 43465
A11: Proposed Rating: | B11: Meets
A12: Project Manager: | B12: TBD | D12: Project Summary:
A13: Team Members:
D16: Project Budget: | E16: 0
D17: Days Left: | E17: =B10-B8 -> 244
A19: Current Status:
A20: What's the latest update. Write here...
A21: Next Steps:
A22: What will you be doing next. Write here...
A23: Current Concern/Problem:
A24: N/A or Write here...
A25: Potential Resolution:
A26: I plan to…
A28: Task Name | B28: Resources | C28: Duration | D28: Start | E28: Finish | F28: % Work Complete
A29: TASKS | B29: OWNER | D29: Date Assigned | E29: Date Due | F29: Percentage Complete
A46: Bi-Weekly Update History

Sheet FS-TBD#1
A1: Facilities Services
A2: Project
A3: TBD #1
A5: Ground Level View
A7: Project Progress: | B7: Complete
A8: Project Status as of: | B8: 43221
A9: % Complete: | B9: 0
A10: Target Date: | B10: 43465
A11: Proposed Rating: | B11: Meets
A12: Project Manager: | B12: TBD | D12: Project Summary:
A13: Team Members:
D16: Project Budget: | E16: 0
D17: Days Left: | E17: =B10-B8 -> 244
A19: Current Status:
A20: What's the latest update. Write here...
A21: Next Steps:
A22: What will you be doing next. Write here...
A23: Current Concern/Problem:
A24: N/A or Write here...
A25: Potential Resolution:
A26: I plan to…
A28: Task Name | B28: Resources | C28: Duration | D28: Start | E28: Finish | F28: % Work Complete
A29: TASKS | B29: OWNER | D29: Date Assigned | E29: Date Due | F29: Percentage Complete
A58: Bi-Weekly Update History

Sheet Misc - Links&Charts
F2: Progress of Major Projects
A3: Schedule | B3: Progress of All Projects | E3: Major
A4: Ahead | B4: =COUNTIF('All Projects'!E:E,A4) -> 10 | E4: Ahead | F4: =SUMPRODUCT(('All Projects'!$D:$D=$E3)*('All Projects'!$E:$E=E$4)) -> 8
A5: Target | B5: =COUNTIF('All Projects'!E:E,A5) -> 7 | E5: Target | F5: =SUMPRODUCT(('All Projects'!$D:$D=$E3)*('All Projects'!$E:$E=E$5)) -> 2
A6: Behind | B6: =COUNTIF('All Projects'!E:E,A6) -> 4 | E6: Behind | F6: =SUMPRODUCT(('All Projects'!$D:$D=$E3)*('All Projects'!$E:$E=E$6)) -> 1
A7: Stuck | B7: =COUNTIF('All Projects'!E:E,A7) -> 2 | E7: Stuck | F7: =SUMPRODUCT(('All Projects'!$D:$D=$E2)*('All Projects'!$E:$E=E$8)) -> 0
A8: Complete | B8: =COUNTIF('All Projects'!E:E,A8) -> 3 | E8: Complete | F8: =SUMPRODUCT(('All Projects'!$D:$D=$E3)*('All Projects'!$E:$E=E$8)) -> 0
E9: Total | F9: =SUM(F4:F8) -> 11
A12: Schedule | B12: Progress of Projects | E12: Schedule | F12: Progress of Special Projects
A13: Ahead | B13: =COUNTIF(Projects!E:E,A13) -> #REF! | E13: Ahead | F13: =COUNTIF('Special Projects'!E:E,'Misc - Links&Charts'!E13) -> #REF!
A14: Target | B14: =COUNTIF(Projects!E:E,A14) -> #REF! | E14: Target | F14: =COUNTIF('Special Projects'!E:E,'Misc - Links&Charts'!E14) -> #REF!
A15: Behind | B15: =COUNTIF(Projects!E:E,A15) -> #REF! | E15: Behind | F15: =COUNTIF('Special Projects'!E:E,'Misc - Links&Charts'!E15) -> #REF!
A16: Stuck | B16: =COUNTIF(Projects!E:E,A16) -> #REF! | E16: Stuck | F16: =COUNTIF('Special Projects'!E:E,'Misc - Links&Charts'!E16) -> #REF!
A17: Complete | B17: =COUNTIF(Projects!E:E,A17) -> #REF! | E17: Complete | F17: =COUNTIF('Special Projects'!E:E,'Misc - Links&Charts'!E17) -> #REF!

Sheet Misc - How To Info
A1: How to Information
A5: For Project Managers
A6: Step 1 | B6: Following the format (see Real Estate project by Eric Gonzalez or my projects), enter in your Project Summary, Team Members, and Budget (if applicable)
A7: Step 2 | B7: Enter in all of your Tasks and Goals and Dates they are due.
A8: Step 3 | B8: Enter in the high level items: Progress, Status Date, % Complete, Target Date, Rating.
A9: Step 4 | B9: Enter in your Current Status, Next Steps, Current Problem, Potential Resolution.
A10: Step 5 | B10: Copy and Paste your 4 Current Status Items at the bottom of the page (Bi-weekly update) with the date you copy and pasted them (to keep a history).
A11: Step 6 | B11: Make updates Twice a Month: on the 1st of the Month and the 15th of the Month.
A12: Step 7 | B12: Do NOT make changes to the Master Tracker page! Ever!
